BEGIN:VCALENDAR
VERSION:2.0
PRODID:-//wp-events-plugin.com//7.2.3.1//EN
TZID:America/Los_Angeles
X-WR-TIMEZONE:America/Los_Angeles
BEGIN:VEVENT
UID:2852@mpuuc.org
DTSTART;TZID=America/Los_Angeles:20190911T193000
DTEND;TZID=America/Los_Angeles:20190911T210000
DTSTAMP:20190910T152555Z
URL:https://mpuuc.org/events/peak-peformers-rehearsal-2019-09-11/
SUMMARY:Peak Peformers Rehearsal
DESCRIPTION:
CATEGORIES:Choir
LOCATION:Cole Hall\, 2950 Washington Blvd\, Fremont\, CA\, 94539\, United S
 tates
GEO:37.53280650000001;-121.94992079999997
X-APPLE-STRUCTURED-LOCATION;VALUE=URI;X-ADDRESS=2950 Washington Blvd\, Frem
 ont\, CA\, 94539\, United States;X-APPLE-RADIUS=100;X-TITLE=Cole Hall:geo:
 37.53280650000001,-121.94992079999997
END:VEVENT
BEGIN:VTIMEZONE
TZID:America/Los_Angeles
X-LIC-LOCATION:America/Los_Angeles
BEGIN:DAYLIGHT
DTSTART:20190310T030000
TZOFFSETFROM:-0800
TZOFFSETTO:-0700
TZNAME:PDT
END:DAYLIGHT
END:VTIMEZONE
END:VCALENDAR