BEGIN:VCALENDAR
VERSION:2.0
PRODID:-//wp-events-plugin.com//7.2.3.1//EN
TZID:America/Los_Angeles
X-WR-TIMEZONE:America/Los_Angeles
BEGIN:VEVENT
UID:5036@mpuuc.org
DTSTART;TZID=America/Los_Angeles;VALUE=DATE:20250705
DTEND;TZID=America/Los_Angeles;VALUE=DATE:20250714
DTSTAMP:20250225T220740Z
URL:https://mpuuc.org/events/sandra-vacation-15/
SUMMARY:Sandra - Vacation
DESCRIPTION:
CATEGORIES:Admin
END:VEVENT
BEGIN:VTIMEZONE
TZID:America/Los_Angeles
X-LIC-LOCATION:America/Los_Angeles
BEGIN:DAYLIGHT
DTSTART:20250309T030000
TZOFFSETFROM:-0800
TZOFFSETTO:-0700
TZNAME:PDT
END:DAYLIGHT
END:VTIMEZONE
END:VCALENDAR